BEGIN:VCALENDAR
VERSION:2.0
PRODID:-//Städtepartnerschaft Ganey Tikva Bergisch Gladbach e.V. - ECPv6.15.20//NONSGML v1.0//EN
CALSCALE:GREGORIAN
METHOD:PUBLISH
X-ORIGINAL-URL:https://ganey-tikva-verein.gl
X-WR-CALDESC:Veranstaltungen für Städtepartnerschaft Ganey Tikva Bergisch Gladbach e.V.
REFRESH-INTERVAL;VALUE=DURATION:PT1H
X-Robots-Tag:noindex
X-PUBLISHED-TTL:PT1H
BEGIN:VTIMEZONE
TZID:Europe/Berlin
BEGIN:DAYLIGHT
TZOFFSETFROM:+0100
TZOFFSETTO:+0200
TZNAME:CEST
DTSTART:20250330T010000
END:DAYLIGHT
BEGIN:STANDARD
TZOFFSETFROM:+0200
TZOFFSETTO:+0100
TZNAME:CET
DTSTART:20251026T010000
END:STANDARD
BEGIN:DAYLIGHT
TZOFFSETFROM:+0100
TZOFFSETTO:+0200
TZNAME:CEST
DTSTART:20260329T010000
END:DAYLIGHT
BEGIN:STANDARD
TZOFFSETFROM:+0200
TZOFFSETTO:+0100
TZNAME:CET
DTSTART:20261025T010000
END:STANDARD
BEGIN:DAYLIGHT
TZOFFSETFROM:+0100
TZOFFSETTO:+0200
TZNAME:CEST
DTSTART:20270328T010000
END:DAYLIGHT
BEGIN:STANDARD
TZOFFSETFROM:+0200
TZOFFSETTO:+0100
TZNAME:CET
DTSTART:20271031T010000
END:STANDARD
END:VTIMEZONE
BEGIN:VEVENT
DTSTART;TZID=Europe/Berlin:20260513T190000
DTEND;TZID=Europe/Berlin:20260513T190000
DTSTAMP:20260422T134537
CREATED:20251030T190619Z
LAST-MODIFIED:20260414T132315Z
UID:2854-1778698800-1778698800@ganey-tikva-verein.gl
SUMMARY:Amos Oz: Esperanto - Eine Geschichte aus dem Kibbuz - Lesung zum Unabhängigkeitstag des Staates Israel   
DESCRIPTION:Eine Veranstaltung des Katholischen Bildungswerks Rheinisch-Bergischer Kreis und des „Städtepartnerschaft Ganey Tikva-Bergisch Gladbach e.V.“ am 13.Mai 2026\, dem Vorabend des Gründungsgedenkens des Staates Israel \nDer Eintritt ist frei. Um Spenden für den Städtepartnerschaftsverein wird gebeten. \nAm 14. Mai 1948 rief Ben Gurion die Staatsgründung Israels aus. Damals gab es schon Kibbuzim im Heiligen Land\, in denen Jüdinnen und Juden eine ideale Gesellschaft gestalten und somit die Welt verändern wollten: Geld und Besitz sollten keine Rolle spielen\, alle waren gleich und brachten sich mit harter Arbeit in den Kibbuz ein\, geschwisterlich wurde alles geteilt und gemeinschaftlich beschlossen\, wer seine Gaben wo einsetzen sollte. Dieses kollektive Streben war jedoch zum Scheitern verurteilt. Menschen lassen sich nicht dauerhaft in ein Kollektiv einbinden. Die Kibbuzim haben jedoch den jungen Staat Israel geprägt. \nDie Geschichten aus dem Buch „Unter Freunden“ von Amos Oz spielen in den späten 1950er Jahren. Damals haderten die Menschen in den Kibbuzim schon mit den strikten Regeln des Kollektivs. In der Geschichte „Esperanto“ folgt dennoch der todkranke Schuster Martin seinem Traum auch gegen die Widerstände und wohlmeinenden Ratschlage seiner Mitbewohner. Er möchte nämlich eine Esperanto-Gruppe gründen\, denn er glaubt\, mit einer gemeinsamen Sprache könnten alle Probleme zwischen den Menschen ausgeräumt werden. Auch er scheitert\, denn er stirbt ohne Esperanto etablieren zu können\, und seine treusorgende Nachbarin Osnat kann nicht einmal an seinem Grab einige Worte in Esperanto sprechen. \nDer Autor Amos Oz trat selbst mit 15 Jahren in einen Kibbuz ein\, denn er wollte sich von den trostlosen Immigranten seiner Jerusalemer Kindheit abgrenzen. Er wurde ein weltbekannter Autor\, der sich der Friedensbewegung verschrieb. Wie Martin in „Esperanto“ wollte er wohl nie die Hoffnung auf Frieden aufgeben. \nDie Geschichte „Esperanto“ wird von Heinz D. Haun vorgetragen\, der sich ehrenamtlich um die Kultur und die Städtepartnerschaften\, insbesondere mit dem palästinensischen Beit Jala bemüht. \n 
URL:https://ganey-tikva-verein.gl/veranstaltung/veranstaltung-zum-unabhaengigkeitstag-des-staates-israel/
LOCATION:Großer Ratssaal\, Rathaus Stadtmitte\, Konrad-Adenauer-Platz 1\, Bergisch Gladbach\, 51465
ATTACH;FMTTYPE=application/pdf:https://ganey-tikva-verein.gl/wp-content/uploads/2025/10/Kibbuz-Bahan-1971.pdf
END:VEVENT
BEGIN:VEVENT
DTSTART;TZID=Europe/Berlin:20260905T193000
DTEND;TZID=Europe/Berlin:20260905T210000
DTSTAMP:20260422T134537
CREATED:20260123T162645Z
LAST-MODIFIED:20260123T162645Z
UID:2905-1788636600-1788642000@ganey-tikva-verein.gl
SUMMARY:Klezmer-Konzert mit Freylechs
DESCRIPTION:Ein Abend mit jüdischer Musik in Kooperation mit Himmel un Ääd e.V. \nweitere Informationen folgen
URL:https://ganey-tikva-verein.gl/veranstaltung/klezmer-konzert-mit-freylechs/
LOCATION:Herz-Jesu-Kirche\, Garten der Begegnung\, Altenberger-Dom-Straße 140\, 51467 Bergisch Gladbach\, Deutschland
ATTACH;FMTTYPE=image/jpeg:https://ganey-tikva-verein.gl/wp-content/uploads/2025/09/20250823_193200-scaled-e1756744893421.jpg
END:VEVENT
END:VCALENDAR